BEGIN:VCALENDAR
VERSION:2.0
PRODID:-//CD Foundation - ECPv6.15.20//NONSGML v1.0//EN
CALSCALE:GREGORIAN
METHOD:PUBLISH
X-WR-CALNAME:CD Foundation
X-ORIGINAL-URL:https://cd.foundation
X-WR-CALDESC:Events for CD Foundation
REFRESH-INTERVAL;VALUE=DURATION:PT1H
X-Robots-Tag:noindex
X-PUBLISHED-TTL:PT1H
BEGIN:VTIMEZONE
TZID:America/New_York
BEGIN:DAYLIGHT
TZOFFSETFROM:-0500
TZOFFSETTO:-0400
TZNAME:EDT
DTSTART:20200308T070000
END:DAYLIGHT
BEGIN:STANDARD
TZOFFSETFROM:-0400
TZOFFSETTO:-0500
TZNAME:EST
DTSTART:20201101T060000
END:STANDARD
BEGIN:DAYLIGHT
TZOFFSETFROM:-0500
TZOFFSETTO:-0400
TZNAME:EDT
DTSTART:20210314T070000
END:DAYLIGHT
BEGIN:STANDARD
TZOFFSETFROM:-0400
TZOFFSETTO:-0500
TZNAME:EST
DTSTART:20211107T060000
END:STANDARD
BEGIN:DAYLIGHT
TZOFFSETFROM:-0500
TZOFFSETTO:-0400
TZNAME:EDT
DTSTART:20220313T070000
END:DAYLIGHT
BEGIN:STANDARD
TZOFFSETFROM:-0400
TZOFFSETTO:-0500
TZNAME:EST
DTSTART:20221106T060000
END:STANDARD
END:VTIMEZONE
BEGIN:VEVENT
DTSTART;TZID=America/New_York:20210525T120000
DTEND;TZID=America/New_York:20210525T200000
DTSTAMP:20260420T022823
CREATED:20210519T133753Z
LAST-MODIFIED:20210520T123211Z
UID:7536-1621944000-1621972800@cd.foundation
SUMMARY:Oracle Live:  Advancing the Future of Cloud with Arm-Based Computing
DESCRIPTION:The cloud was built on x86 processors\, but the promise of Arm-based cloud computing—delivering linear scalability and price-performance advantages—is a future too bright to ignore. Oracle is committed to the growth of the Arm ecosystem for cloud computing and ensuring all customers are positioned to realize the benefits. \nOn May 25\, Clay Magouyrk\, joined by leaders from Ampere Computing and Arm\, will share Oracle’s vision for the Arm ecosystem. Learn how you can join the community of leading developers and customers who are jump-starting their own Arm initiatives. \nFollowing the announcement\, join a live Q&A with experts and thought leaders in the Arm ecosystem.
URL:https://cd.foundation/event/oracle-live-advancing-the-future-of-cloud-with-arm-based-computing/
LOCATION:Virtual
CATEGORIES:Member
ATTACH;FMTTYPE=image/jpeg:https://cd.foundation/wp-content/uploads/sites/35/2021/05/OracleLive800.jpg
END:VEVENT
END:VCALENDAR