BEGIN:VCALENDAR
VERSION:2.0
PRODID:-//CD Foundation - ECPv6.15.20//NONSGML v1.0//EN
CALSCALE:GREGORIAN
METHOD:PUBLISH
X-ORIGINAL-URL:https://cd.foundation
X-WR-CALDESC:Events for CD Foundation
REFRESH-INTERVAL;VALUE=DURATION:PT1H
X-Robots-Tag:noindex
X-PUBLISHED-TTL:PT1H
BEGIN:VTIMEZONE
TZID:America/New_York
BEGIN:DAYLIGHT
TZOFFSETFROM:-0500
TZOFFSETTO:-0400
TZNAME:EDT
DTSTART:20240310T070000
END:DAYLIGHT
BEGIN:STANDARD
TZOFFSETFROM:-0400
TZOFFSETTO:-0500
TZNAME:EST
DTSTART:20241103T060000
END:STANDARD
BEGIN:DAYLIGHT
TZOFFSETFROM:-0500
TZOFFSETTO:-0400
TZNAME:EDT
DTSTART:20250309T070000
END:DAYLIGHT
BEGIN:STANDARD
TZOFFSETFROM:-0400
TZOFFSETTO:-0500
TZNAME:EST
DTSTART:20251102T060000
END:STANDARD
BEGIN:DAYLIGHT
TZOFFSETFROM:-0500
TZOFFSETTO:-0400
TZNAME:EDT
DTSTART:20260308T070000
END:DAYLIGHT
BEGIN:STANDARD
TZOFFSETFROM:-0400
TZOFFSETTO:-0500
TZNAME:EST
DTSTART:20261101T060000
END:STANDARD
END:VTIMEZONE
BEGIN:VEVENT
DTSTART;VALUE=DATE:20251004
DTEND;VALUE=DATE:20251005
DTSTAMP:20260424T234615
CREATED:20250905T162154Z
LAST-MODIFIED:20250922T152430Z
UID:16242-1759536000-1759622399@cd.foundation
SUMMARY:Kerala October Meetup
DESCRIPTION:Join the DevOps community for an inspiring CDF Meetup with two seasoned experts who will dive deep into Jenkins automation and Tekton-powered CI/CD! \n\nSession 1: “CDF Uncovered: Enabling Secure & Speedy Software Delivery” by Muhammed Iqbal P B\, Continuous Delivery Foundation Ambassador. Learn what the Continuous Delivery Foundation (CDF) is\, why it matters\, and how this open source community helps improve the world’s ability to deliver software with security and speed.\nSession 2: “Code Your Jenkins\, automate everything” by Gireesh Kumar\, Senior DevOps Lead at Accenture. Learn how to automate Jenkins using Jenkins Job DSL and Jenkins Configuration as Code (JCasC).\nSession 3: “Cloud-Native CI/CD with Tekton: A Deep Dive” by Sudhish Nair\, Senior Software Engineer at Red Hat. Explore Tekton\, a Kubernetes-native framework for building and running CI/CD pipelines.\n\nEvent Organizers:  Muhammed Iqbal P B & Vijay Raj J\, CDF Ambassadors \nEvent details
URL:https://cd.foundation/event/kerala-meetup/
CATEGORIES:Ambassadors
ATTACH;FMTTYPE=image/png:https://cd.foundation/wp-content/uploads/sites/35/2025/09/Kerala-Meetup.png
END:VEVENT
BEGIN:VEVENT
DTSTART;VALUE=DATE:20251023
DTEND;VALUE=DATE:20251026
DTSTAMP:20260424T234615
CREATED:20251014T125233Z
LAST-MODIFIED:20251015T151411Z
UID:16436-1761177600-1761436799@cd.foundation
SUMMARY:GSoC Mentor Summit 2025
DESCRIPTION:Thursday\, October 23 – Saturday\, October 25th | Munich\, Germany \nValentin Delaye and Vutukuri Sreenivas will represent Jenkins (a CD Foundation project) at the upcoming Google Summer of Code Mentor Summer\, along with 133 organizations! \nEvent details
URL:https://cd.foundation/event/gsoc-mentor-summit-2025/
CATEGORIES:Community,Jenkins
ATTACH;FMTTYPE=image/png:https://cd.foundation/wp-content/uploads/sites/35/2025/10/GSoC-2025-Mentor-Summit-CDF-Jenkins-1.png
END:VEVENT
BEGIN:VEVENT
DTSTART;VALUE=DATE:20251028
DTEND;VALUE=DATE:20251029
DTSTAMP:20260424T234615
CREATED:20250729T145659Z
LAST-MODIFIED:20250729T145758Z
UID:15505-1761609600-1761695999@cd.foundation
SUMMARY:Linux Foundation Europe Member Summit 2025
DESCRIPTION:The Linux Foundation Europe Member Summit is an annual gathering for Linux Foundation Europe members\, along with invited speakers\, sponsors and media. \nThis event cultivates collaboration\, open innovation\, and partnerships among those in the private public sectors working to drive digital transformation through open collaboration. It is a must-attend for business and technical leaders looking to advance a Europe-wide open source strategy and mobilise resources in their organisations to collaboratively influence the largest shared technology investment of our time. \nThe event will feature prominent speakers from the private and public sectors and existing and upcoming Linux Foundation projects\, as well as offer an opportunity for members of LF Europe to share their organisational priorities and put forward collaboration opportunities to the Linux Foundation Europe Advisory Board and membership at large. \nCall for Proposals Deadline: Monday\, 11 August at 9:00 CEST / Sunday\, 10 August at 23:59 PDT \nEvent details
URL:https://cd.foundation/event/15505/
CATEGORIES:Linux Foundation
ATTACH;FMTTYPE=image/jpeg:https://cd.foundation/wp-content/uploads/sites/35/2025/07/LF-Europe-Member-Summit-2025-Social-Snackable.jpg
ORGANIZER;CN="The Linux Foundation":MAILTO:events@linuxfoundation.org
END:VEVENT
BEGIN:VEVENT
DTSTART;VALUE=DATE:20251029
DTEND;VALUE=DATE:20251030
DTSTAMP:20260424T234615
CREATED:20250729T145911Z
LAST-MODIFIED:20250729T145933Z
UID:15510-1761696000-1761782399@cd.foundation
SUMMARY:Linux Foundation Europe Roadshow
DESCRIPTION:The Linux Foundation Europe Roadshow continues its journey with a second stop dedicated to one of the most critical aspects of the open source ecosystem: Regulation. This one-day event brings together policymakers\, legal experts\, developers\, and industry leaders for an in-depth exploration of how regulatory frameworks impact the adoption\, security\, and sustainability of open source technologies across Europe. \nAs governments and institutions refine policies around digital sovereignty\, cybersecurity\, AI governance\, and software liability\, understanding the regulatory landscape is more important than ever. The Impact Track at this stop will focus on how open source communities and organizations can navigate evolving regulations\, influence policy discussions\, and ensure compliance while fostering innovation. \nCall for Proposals Deadline: Monday\, 11 August at 9:00 CEST / Sunday\, 10 August at 23:59 PDT \nEvent details
URL:https://cd.foundation/event/linux-foundation-europe-roadshow/
CATEGORIES:Linux Foundation
ATTACH;FMTTYPE=image/jpeg:https://cd.foundation/wp-content/uploads/sites/35/2025/07/LF-Europe-Roadshow-Ghent-Social-Snackable.jpg
ORGANIZER;CN="The Linux Foundation":MAILTO:events@linuxfoundation.org
END:VEVENT
END:VCALENDAR